BEGIN:VCALENDAR
VERSION:2.0
PRODID:-//Inner Flow Somatic Counselling - ECPv6.15.20//NONSGML v1.0//EN
CALSCALE:GREGORIAN
METHOD:PUBLISH
X-WR-CALNAME:Inner Flow Somatic Counselling
X-ORIGINAL-URL:https://innerflowcounselling.com
X-WR-CALDESC:Events for Inner Flow Somatic Counselling
REFRESH-INTERVAL;VALUE=DURATION:PT1H
X-Robots-Tag:noindex
X-PUBLISHED-TTL:PT1H
BEGIN:VTIMEZONE
TZID:America/Vancouver
BEGIN:DAYLIGHT
TZOFFSETFROM:-0800
TZOFFSETTO:-0700
TZNAME:PDT
DTSTART:20240310T100000
END:DAYLIGHT
BEGIN:STANDARD
TZOFFSETFROM:-0700
TZOFFSETTO:-0800
TZNAME:PST
DTSTART:20241103T090000
END:STANDARD
BEGIN:DAYLIGHT
TZOFFSETFROM:-0800
TZOFFSETTO:-0700
TZNAME:PDT
DTSTART:20250309T100000
END:DAYLIGHT
BEGIN:STANDARD
TZOFFSETFROM:-0700
TZOFFSETTO:-0800
TZNAME:PST
DTSTART:20251102T090000
END:STANDARD
BEGIN:DAYLIGHT
TZOFFSETFROM:-0800
TZOFFSETTO:-0700
TZNAME:PDT
DTSTART:20260308T100000
END:DAYLIGHT
BEGIN:STANDARD
TZOFFSETFROM:-0700
TZOFFSETTO:-0800
TZNAME:PST
DTSTART:20261101T090000
END:STANDARD
END:VTIMEZONE
BEGIN:VEVENT
DTSTART;TZID=America/Vancouver:20251107T190000
DTEND;TZID=America/Vancouver:20251107T203000
DTSTAMP:20260421T014700
CREATED:20251002T023653Z
LAST-MODIFIED:20251002T024707Z
UID:6339-1762542000-1762547400@innerflowcounselling.com
SUMMARY:The 360 Journey
DESCRIPTION:
URL:https://innerflowcounselling.com/event/the-360-journey-2/
LOCATION:Granthams Hall\, 846 Church Rd\, Gibsons\, BC\, V0N 1V1\, Canada
END:VEVENT
BEGIN:VEVENT
DTSTART;TZID=America/Vancouver:20251121T190000
DTEND;TZID=America/Vancouver:20251121T203000
DTSTAMP:20260421T014700
CREATED:20251002T023541Z
LAST-MODIFIED:20251002T023756Z
UID:6337-1763751600-1763757000@innerflowcounselling.com
SUMMARY:The 360 Journey
DESCRIPTION:
URL:https://innerflowcounselling.com/event/the-360-journey/
LOCATION:Granthams Hall\, 846 Church Rd\, Gibsons\, BC\, V0N 1V1\, Canada
END:VEVENT
BEGIN:VEVENT
DTSTART;TZID=America/Vancouver:20251122T110000
DTEND;TZID=America/Vancouver:20251122T160000
DTSTAMP:20260421T014700
CREATED:20251002T024015Z
LAST-MODIFIED:20251102T204730Z
UID:6341-1763809200-1763827200@innerflowcounselling.com
SUMMARY:em•body
DESCRIPTION:em•body is a ritualized therapeutic dance experience that integrates The 360 Emergence. \nIn this full-day exploration\, we will delve into various types of movement landscapes\, ranging from brain-based movements to free-form dance and relational movement. \nBrain-based movements are designed to awaken your perceptive and receptive abilities\, providing support to your nervous system. \nUsing The 360 Emergence’s Compass map\, we will dance with the body as an intuitive and intelligent navigation organism that when finely tuned connects and guides you towards healing. \nDance as embodiment is more than just movement—it’s a sacred journey back into ourselves. It’s a practice where emotions are welcomed and processed through the shapes and gestures our bodies express. \nThrough relational movement practices\, we connect with others\, exploring the profound practice of truly seeing and sensing others while also being seen. \nem•body encourages us to fully inhabit our physical bodies\, embrace our vulnerability\, find strength in our fluidity\, and enliven playfulness. \nHere\, you are given the freedom to explore your weird\, your queer\, your dark\, your joy\, your life\, your breath\, yourself.
URL:https://innerflowcounselling.com/event/embody/
LOCATION:Granthams Hall\, 846 Church Rd\, Gibsons\, BC\, V0N 1V1\, Canada
END:VEVENT
END:VCALENDAR