BEGIN:VCALENDAR
VERSION:2.0
PRODID:-//Inner Flow Somatic Counselling - ECPv6.15.20//NONSGML v1.0//EN
CALSCALE:GREGORIAN
METHOD:PUBLISH
X-ORIGINAL-URL:https://innerflowcounselling.com
X-WR-CALDESC:Events for Inner Flow Somatic Counselling
REFRESH-INTERVAL;VALUE=DURATION:PT1H
X-Robots-Tag:noindex
X-PUBLISHED-TTL:PT1H
BEGIN:VTIMEZONE
TZID:America/Vancouver
BEGIN:DAYLIGHT
TZOFFSETFROM:-0800
TZOFFSETTO:-0700
TZNAME:PDT
DTSTART:20240310T100000
END:DAYLIGHT
BEGIN:STANDARD
TZOFFSETFROM:-0700
TZOFFSETTO:-0800
TZNAME:PST
DTSTART:20241103T090000
END:STANDARD
BEGIN:DAYLIGHT
TZOFFSETFROM:-0800
TZOFFSETTO:-0700
TZNAME:PDT
DTSTART:20250309T100000
END:DAYLIGHT
BEGIN:STANDARD
TZOFFSETFROM:-0700
TZOFFSETTO:-0800
TZNAME:PST
DTSTART:20251102T090000
END:STANDARD
BEGIN:DAYLIGHT
TZOFFSETFROM:-0800
TZOFFSETTO:-0700
TZNAME:PDT
DTSTART:20260308T100000
END:DAYLIGHT
BEGIN:STANDARD
TZOFFSETFROM:-0700
TZOFFSETTO:-0800
TZNAME:PST
DTSTART:20261101T090000
END:STANDARD
END:VTIMEZONE
BEGIN:VEVENT
DTSTART;TZID=America/Vancouver:20251010T190000
DTEND;TZID=America/Vancouver:20251010T203000
DTSTAMP:20260421T031236
CREATED:20250920T210328Z
LAST-MODIFIED:20251002T024741Z
UID:6300-1760122800-1760128200@innerflowcounselling.com
SUMMARY:The 360 Journey
DESCRIPTION:
URL:https://innerflowcounselling.com/event/the-360-journey-granthams-landing/
LOCATION:Granthams Hall\, 846 Church Rd\, Gibsons\, BC\, V0N 1V1\, Canada
END:VEVENT
BEGIN:VEVENT
DTSTART;TZID=America/Vancouver:20251024T190000
DTEND;TZID=America/Vancouver:20251024T203000
DTSTAMP:20260421T031236
CREATED:20250920T210422Z
LAST-MODIFIED:20251002T024622Z
UID:6303-1761332400-1761337800@innerflowcounselling.com
SUMMARY:The 360 Journey
DESCRIPTION:
URL:https://innerflowcounselling.com/event/the-360-journey-granthams-hall/
LOCATION:Granthams Hall\, 846 Church Rd\, Gibsons\, BC\, V0N 1V1\, Canada
END:VEVENT
BEGIN:VEVENT
DTSTART;TZID=America/Vancouver:20251025T110000
DTEND;TZID=America/Vancouver:20251025T123000
DTSTAMP:20260421T031236
CREATED:20250920T210726Z
LAST-MODIFIED:20251002T023259Z
UID:6305-1761390000-1761395400@innerflowcounselling.com
SUMMARY:The 360 Movement Lab online
DESCRIPTION:
URL:https://innerflowcounselling.com/event/the-360-movement-lab-online/
LOCATION:Online
END:VEVENT
END:VCALENDAR