BEGIN:VCALENDAR
VERSION:2.0
PRODID:-//Inner Flow Somatic Counselling - ECPv6.15.20//NONSGML v1.0//EN
CALSCALE:GREGORIAN
METHOD:PUBLISH
X-ORIGINAL-URL:https://innerflowcounselling.com
X-WR-CALDESC:Events for Inner Flow Somatic Counselling
REFRESH-INTERVAL;VALUE=DURATION:PT1H
X-Robots-Tag:noindex
X-PUBLISHED-TTL:PT1H
BEGIN:VTIMEZONE
TZID:America/Vancouver
BEGIN:DAYLIGHT
TZOFFSETFROM:-0800
TZOFFSETTO:-0700
TZNAME:PDT
DTSTART:20240310T100000
END:DAYLIGHT
BEGIN:STANDARD
TZOFFSETFROM:-0700
TZOFFSETTO:-0800
TZNAME:PST
DTSTART:20241103T090000
END:STANDARD
BEGIN:DAYLIGHT
TZOFFSETFROM:-0800
TZOFFSETTO:-0700
TZNAME:PDT
DTSTART:20250309T100000
END:DAYLIGHT
BEGIN:STANDARD
TZOFFSETFROM:-0700
TZOFFSETTO:-0800
TZNAME:PST
DTSTART:20251102T090000
END:STANDARD
BEGIN:DAYLIGHT
TZOFFSETFROM:-0800
TZOFFSETTO:-0700
TZNAME:PDT
DTSTART:20260308T100000
END:DAYLIGHT
BEGIN:STANDARD
TZOFFSETFROM:-0700
TZOFFSETTO:-0800
TZNAME:PST
DTSTART:20261101T090000
END:STANDARD
END:VTIMEZONE
BEGIN:VEVENT
DTSTART;TZID=America/Vancouver:20251121T190000
DTEND;TZID=America/Vancouver:20251121T203000
DTSTAMP:20260421T032150
CREATED:20251002T023541Z
LAST-MODIFIED:20251002T023756Z
UID:6337-1763751600-1763757000@innerflowcounselling.com
SUMMARY:The 360 Journey
DESCRIPTION:
URL:https://innerflowcounselling.com/event/the-360-journey/
LOCATION:Granthams Hall\, 846 Church Rd\, Gibsons\, BC\, V0N 1V1\, Canada
END:VEVENT
END:VCALENDAR